BEGIN:VCALENDAR
VERSION:2.0
PRODID:-//kirchenmusik-karlsruhe.de//NONSGML kigkonsult.se iCalcreator 2.41.92//
CALSCALE:GREGORIAN
METHOD:PUBLISH
UID:61316132-3739-4032-b931-623832306532
X-WR-TIMEZONE:Europe/Berlin
X-LIC-LOCATION:Europe/Berlin
BEGIN:VTIMEZONE
TZID:Europe/Berlin
BEGIN:DAYLIGHT
TZOFFSETFROM:+0100
TZOFFSETTO:+0200
TZNAME:CEST
DTSTART:19700329T020000
RRULE:FREQ=YEARLY;BYDAY=-1SU;BYMONTH=3
END:DAYLIGHT
BEGIN:STANDARD
TZOFFSETFROM:+0200
TZOFFSETTO:+0100
TZNAME:CET
DTSTART:19701025T030000
RRULE:FREQ=YEARLY;BYDAY=-1SU;BYMONTH=10
END:STANDARD
END:VTIMEZONE
BEGIN:VEVENT
UID:64376131-6566-4631-b533-623230643638
DTSTAMP:20260421T130955Z
DESCRIPTION:Ein Orgeltheater für die ganze Familie\n \n „Bei der Feuerwehr 
 wird der Kaffee kalt“ Ein Orgeltheater für die ganze Familie Sebastian Kre
 utz\, Erzähler Christian-Markus Raiser\, Orgel Eintritt frei\, um Spenden 
 wird gebeten\n \n Veranstaltungsort:\n Ev. Stadtkirche\n Marktplatz\n 7613
 3 Karlsruhe\n \n Veranstalter:\n Musik an der Stadtkirche Karlsruhe\n http
 s://www.musikanderstadtkirchekarlsruhe.de
DTSTART;TZID=Europe/Berlin:20260426T120000
DTEND;TZID=Europe/Berlin:20260426T120000
LOCATION:Ev. Stadtkirche\n - Marktplatz\n - 76133 Karlsruhe
SUMMARY:„Bei der Feuerwehr wird der Kaffee kalt“
X-ALT-DESC;FMTTYPE=text/html:Ein Orgeltheater für die ganze Familie <br /><
 br />„Bei der Feuerwehr wird der Kaffee kalt“\n Ein Orgeltheater für die g
 anze Familie\n \n Sebastian Kreutz\, Erzähler\n Christian-Markus Raiser\, 
 Orgel\n \n Eintritt frei\, um Spenden wird gebeten<br /><br />Veranstaltun
 gsort: <br />Ev. Stadtkirche<br />Marktplatz<br />76133 Karlsruhe<br /><br
  />Veranstalter: <br />Musik an der Stadtkirche Karlsruhe<br />https://www
 .musikanderstadtkirchekarlsruhe.de
END:VEVENT
END:VCALENDAR
