BEGIN:VCALENDAR
VERSION:2.0
PRODID:-//kirchenmusik-karlsruhe.de//NONSGML kigkonsult.se iCalcreator 2.41.92//
CALSCALE:GREGORIAN
METHOD:PUBLISH
UID:32636431-3933-4566-b439-306536666430
X-WR-TIMEZONE:Europe/Berlin
X-LIC-LOCATION:Europe/Berlin
BEGIN:VTIMEZONE
TZID:Europe/Berlin
BEGIN:DAYLIGHT
TZOFFSETFROM:+0100
TZOFFSETTO:+0200
TZNAME:CEST
DTSTART:19700329T020000
RRULE:FREQ=YEARLY;BYDAY=-1SU;BYMONTH=3
END:DAYLIGHT
BEGIN:STANDARD
TZOFFSETFROM:+0200
TZOFFSETTO:+0100
TZNAME:CET
DTSTART:19701025T030000
RRULE:FREQ=YEARLY;BYDAY=-1SU;BYMONTH=10
END:STANDARD
END:VTIMEZONE
BEGIN:VEVENT
UID:37393563-3733-4136-a162-636335373563
DTSTAMP:20260423T134218Z
DESCRIPTION:Gospelkonzert\n \n Gospelchor Emmaus Voices\, als Gast der Japa
 nische Chor KANON und die Marching Band Waldbronn\n \n Veranstaltungsort:
 \n Emmauskirche (Waldstadt)\n Königsberger Str. 35\n 76139 Karlsruhe\n \n 
 Veranstalter:\n Emmaus-Voices\n www.emmausgemeinde-karlsruhe.de
DTSTART;TZID=Europe/Berlin:20260426T180000
DTEND;TZID=Europe/Berlin:20260426T200000
LOCATION:Emmauskirche (Waldstadt)\n - Königsberger Str. 35\n - 76139 Karlsr
 uhe
SUMMARY:Emmaus Voices & Friends
X-ALT-DESC;FMTTYPE=text/html:Gospelkonzert<br /><br />Gospelchor Emmaus Voi
 ces\, als Gast der Japanische Chor KANON und die Marching Band Waldbronn<b
 r /><br />Veranstaltungsort: <br />Emmauskirche (Waldstadt)<br />Königsber
 ger Str. 35<br />76139 Karlsruhe<br /><br />Veranstalter: <br />Emmaus-Voi
 ces<br />www.emmausgemeinde-karlsruhe.de
END:VEVENT
END:VCALENDAR
