BEGIN:VCALENDAR
VERSION:2.0
PRODID:-//kirchenmusik-karlsruhe.de//NONSGML kigkonsult.se iCalcreator 2.41.92//
CALSCALE:GREGORIAN
METHOD:PUBLISH
UID:31656266-3263-4936-b636-303738313365
X-WR-TIMEZONE:Europe/Berlin
X-LIC-LOCATION:Europe/Berlin
BEGIN:VTIMEZONE
TZID:Europe/Berlin
BEGIN:DAYLIGHT
TZOFFSETFROM:+0100
TZOFFSETTO:+0200
TZNAME:CEST
DTSTART:19700329T020000
RRULE:FREQ=YEARLY;BYDAY=-1SU;BYMONTH=3
END:DAYLIGHT
BEGIN:STANDARD
TZOFFSETFROM:+0200
TZOFFSETTO:+0100
TZNAME:CET
DTSTART:19701025T030000
RRULE:FREQ=YEARLY;BYDAY=-1SU;BYMONTH=10
END:STANDARD
END:VTIMEZONE
BEGIN:VEVENT
UID:33363333-6634-4533-b633-386562376163
DTSTAMP:20260421T134041Z
DESCRIPTION:Rainer Maria Rilke in Paris - Luise Wunderlich\, Rezitation & J
 ohannes Hustedt\, Flöte\n \n Mit Rilke durch das Jahr: „Ich lerne sehen“ R
 ainer Maria Rilke in Paris - aus Gedichten\, Briefen und Prosa des Dichter
 s Luise Wunderlich\, Rezitation Johannes Hustedt\, Flöte Kartenvorverkauf:
  > www.tickets-stadtkirche.de > Musikhaus Schlaile\, Kaiserstr. 175\, Karl
 sruhe > Touristinformation Karlsruhe\, Marktplatz > Buchhandlung Mächtling
 er\, Pfinztalstr. 36\, Durlach\n \n Veranstaltungsort:\n Kleine Kirche\n K
 aiserstr. 131\n 76133 Karlsruhe\n \n Veranstalter:\n Musik an der Stadtkir
 che Karlsruhe\n https://www.musikanderstadtkirchekarlsruhe.de
DTSTART;TZID=Europe/Berlin:20260422T193000
DTEND;TZID=Europe/Berlin:20260422T193000
LOCATION:Kleine Kirche\n - Kaiserstr. 131\n - 76133 Karlsruhe
SUMMARY:Mit Rilke durch das Jahr: „Ich lerne sehen“
X-ALT-DESC;FMTTYPE=text/html:Rainer Maria Rilke in Paris - Luise Wunderlich
 \, Rezitation & Johannes Hustedt\, Flöte<br /><br />Mit Rilke durch das Ja
 hr: „Ich lerne sehen“\n \n Rainer Maria Rilke in Paris - aus Gedichten\, B
 riefen und Prosa des Dichters\n \n Luise Wunderlich\, Rezitation\n Johanne
 s Hustedt\, Flöte\n \n Kartenvorverkauf:\n > www.tickets-stadtkirche.de\n 
 > Musikhaus Schlaile\, Kaiserstr. 175\, Karlsruhe\n > Touristinformation K
 arlsruhe\, Marktplatz\n > Buchhandlung Mächtlinger\, Pfinztalstr. 36\, Dur
 lach<br /><br />Veranstaltungsort: <br />Kleine Kirche<br />Kaiserstr. 131
 <br />76133 Karlsruhe<br /><br />Veranstalter: <br />Musik an der Stadtkir
 che Karlsruhe<br />https://www.musikanderstadtkirchekarlsruhe.de
END:VEVENT
END:VCALENDAR
