BEGIN:VCALENDAR
VERSION:2.0
PRODID:-//kirchenmusik-karlsruhe.de//NONSGML kigkonsult.se iCalcreator 2.41.92//
CALSCALE:GREGORIAN
METHOD:PUBLISH
UID:34376564-6239-4666-b336-306139356261
X-WR-TIMEZONE:Europe/Berlin
X-LIC-LOCATION:Europe/Berlin
BEGIN:VTIMEZONE
TZID:Europe/Berlin
BEGIN:DAYLIGHT
TZOFFSETFROM:+0100
TZOFFSETTO:+0200
TZNAME:CEST
DTSTART:19700329T020000
RRULE:FREQ=YEARLY;BYDAY=-1SU;BYMONTH=3
END:DAYLIGHT
BEGIN:STANDARD
TZOFFSETFROM:+0200
TZOFFSETTO:+0100
TZNAME:CET
DTSTART:19701025T030000
RRULE:FREQ=YEARLY;BYDAY=-1SU;BYMONTH=10
END:STANDARD
END:VTIMEZONE
BEGIN:VEVENT
UID:34306335-3939-4034-a266-343031343565
DTSTAMP:20260421T131220Z
DESCRIPTION:Werke von Antonio Vivaldi und Slobodan Jovanović\n \n „Fragment
 e des Verborgenen“ Antonio Vivaldi: Concerti Slobodan Jovanović: Organ con
 certo (Uraufführung)\, Sound Leaks of Accademia della Morte (Uraufführung)
 \, „Jedem seine Maske” Lorena Kempf\, Sopran Valentin Löbens\, Bariton Mit
 glieder des Bachchor Karlsruhe Ensemble Serene Destination Leitung & Orgel
 : Christian-Markus Raiser Kartenvorverkauf: > www.tickets-stadtkirche.de >
  Musikhaus Schlaile\, Kaiserstr. 175\, Karlsruhe > Touristinformation Karl
 sruhe\, Marktplatz > Buchhandlung Mächtlinger\, Pfinztalstr. 36\, Durlach
 \n \n Veranstaltungsort:\n Ev. Stadtkirche\n Marktplatz\n 76133 Karlsruhe
 \n \n Veranstalter:\n Musik an der Stadtkirche Karlsruhe\n https://www.mus
 ikanderstadtkirchekarlsruhe.de
DTSTART;TZID=Europe/Berlin:20260426T180000
DTEND;TZID=Europe/Berlin:20260426T180000
LOCATION:Ev. Stadtkirche\n - Marktplatz\n - 76133 Karlsruhe
SUMMARY:„Fragmente des Verborgenen“
X-ALT-DESC;FMTTYPE=text/html:Werke von Antonio Vivaldi und Slobodan Jovanov
 ić<br /><br />„Fragmente des Verborgenen“\n \n Antonio Vivaldi: Concerti\n
  Slobodan Jovanović: Organ concerto (Uraufführung)\, Sound Leaks of Accade
 mia della Morte (Uraufführung)\, „Jedem seine Maske”\n \n Lorena Kempf\, S
 opran\n Valentin Löbens\, Bariton\n Mitglieder des Bachchor Karlsruhe\n En
 semble Serene Destination\n Leitung & Orgel: Christian-Markus Raiser\n \n 
 Kartenvorverkauf:\n > www.tickets-stadtkirche.de\n > Musikhaus Schlaile\, 
 Kaiserstr. 175\, Karlsruhe\n > Touristinformation Karlsruhe\, Marktplatz\n
  > Buchhandlung Mächtlinger\, Pfinztalstr. 36\, Durlach<br /><br />Veranst
 altungsort: <br />Ev. Stadtkirche<br />Marktplatz<br />76133 Karlsruhe<br 
 /><br />Veranstalter: <br />Musik an der Stadtkirche Karlsruhe<br />https:
 //www.musikanderstadtkirchekarlsruhe.de
END:VEVENT
END:VCALENDAR
