BEGIN:VCALENDAR
VERSION:2.0
PRODID:-//kirchenmusik-karlsruhe.de//NONSGML kigkonsult.se iCalcreator 2.41.92//
CALSCALE:GREGORIAN
METHOD:PUBLISH
UID:65626161-3531-4839-b034-653564663938
X-WR-TIMEZONE:Europe/Berlin
X-LIC-LOCATION:Europe/Berlin
BEGIN:VTIMEZONE
TZID:Europe/Berlin
BEGIN:DAYLIGHT
TZOFFSETFROM:+0100
TZOFFSETTO:+0200
TZNAME:CEST
DTSTART:19700329T020000
RRULE:FREQ=YEARLY;BYDAY=-1SU;BYMONTH=3
END:DAYLIGHT
BEGIN:STANDARD
TZOFFSETFROM:+0200
TZOFFSETTO:+0100
TZNAME:CET
DTSTART:19701025T030000
RRULE:FREQ=YEARLY;BYDAY=-1SU;BYMONTH=10
END:STANDARD
END:VTIMEZONE
BEGIN:VEVENT
UID:36306439-6637-4433-b934-383461613866
DTSTAMP:20260421T120142Z
DESCRIPTION:Philipp Kaufmann (Ulm)\n \n Veranstaltungsort:\n St. Bernhard\n
  Bernhardstraße 15\n 76131 Karlsruhe\n \n Veranstalter:\n Kath. Kantorat S
 t. Raphael\n Bernahardstr. 15\n Karlsruhe\n https://st-raphael-ka.de
DTSTART;TZID=Europe/Berlin:20260426T101500
DTEND;TZID=Europe/Berlin:20260426T104500
LOCATION:St. Bernhard\n - Bernhardstraße 15\n - 76131 Karlsruhe
SUMMARY:Orgelmatinee
X-ALT-DESC;FMTTYPE=text/html:Philipp Kaufmann (Ulm)<br /><br />Veranstaltun
 gsort: <br />St. Bernhard<br />Bernhardstraße 15<br />76131 Karlsruhe<br /
 ><br />Veranstalter: <br />Kath. Kantorat St. Raphael<br />Bernahardstr. 1
 5<br />Karlsruhe<br />https://st-raphael-ka.de
END:VEVENT
END:VCALENDAR
